BEGIN:VCALENDAR
VERSION:2.0
PRODID:-//wp-events-plugin.com//7.2.3.1//EN
TZID:Europe/Madrid
X-WR-TIMEZONE:Europe/Madrid
BEGIN:VEVENT
UID:20@greenesal.com
DTSTART;TZID=Europe/Madrid:20241106T160000
DTEND;TZID=Europe/Madrid:20241106T203000
DTSTAMP:20241106T074507Z
URL:https://greenesal.com/events/v-seminario-de-huella-de-carbono/
SUMMARY:V Seminario de Huella de Carbono
DESCRIPTION:\nV Seminario de Huella de Carbono\n\nEsta jornada está pensa
 da para dar a conocer el reto del Cambio Climático dentro de los objetiv
 os de desarrollo sostenible (ODS) y\, más concretamente\, mostrar el val
 or de la Huella de Carbono (HC) como indicador de la contribución de la 
 actividad industrial a dicho impacto con el fin de plantear estrategias de
  transición ecológica. De este modo\, se mostrarán diversas metodolo
 gías y herramientas de cálculo para los diferentes alcances es- tandar
 izados de Huella de Carbono.\n\nEl formato de aprendizaje planteado combin
 ará el formato presentación\, en la que se mostrarán los diferentes 
 conceptos y metodologías ilustrados con casos prácticos y/o reales\, a
 sí como una clase interactiva en aula de informática (formato taller) 
 para que los alumnos participantes se familiaricen con el uso y aplicacio
 ́n de éstas\, mediante el cálculo de la Huella de Carbono en casos co
 ncretos sencillos e ilustrativos utilizando el software libre openLCA.\n\n
  	Objetivos: Difundir el interés y utilidad de la Huella de Carbono como
  indicador ampliamente utilizado para reducir el impacto sobre el cambio c
 limático.\n 	Dirigido a: Alumnos de grado y/o máster\, preferiblemente
  de carreras del ámbito de las ingenierías\, motivados en conocer có
 mo se puede determinar la Huella de Carbono de una actividad\, producto y/
 o proceso con el fin de reducir su impacto sobre el cambio climático.\n 
 	Organiza: Cátedra de Transición Enerxética USC-Genesal Energy en co
 laboración con el Grupo de Investigación PRODES (GI 2058 USC) y Genesa
 l Energy.\n\nPrograma\n16:00h – 16:10h\nPresentación del Seminario\n(D
 r. Enrique Roca Bordello\, Director de la Cátedra de Transición Enerxe
 ́tica USC-Genesal Energy/ Dr. Eugenio Fernández Carrasco\, Profesor Tit
 ular del Dep. Ingeniería Química – USC)\n\n16:10h – 17:00h\n“Hue
 lla de Carbono. Conceptos clave”\n(Dr. Enrique Roca Bordello\, Catedrá
 tico del Depto. Ingeniería Química - USC)\n\n17:00h – 17:30h\nPausa 
 para café\n\n17:30h – 18:30h\n“Huella de Carbono corporativa.\nDe la
  visión del CEO a la aplicación práctica en Genesal Energy”\n(Juli
 o Arca\, co-CEO\, Genesal Energy)\n\n18:30h - 20:30h\n“Taller práctico
  de HC de producto: openLCA”\n(Dr. Eugenio Fernández Carrasco\, Profes
 or Titular del Dep. Ingeniería Química – USC)\n\nDescargar PDF\nDesc
 argar PDF (Galego)\n\n&nbsp\;\n\n﻿
ATTACH;FMTTYPE=image/jpeg:https://greenesal.com/wp-content/uploads/2024/10
 /V-Seminario-de-Huella-de-Carbono.jpg
CATEGORIES:Presenciales
LOCATION:Facultade de Ciencias Campus Terra (Lugo) Universidade de Santiago
  de Compostela\, Rúa Afonso X o Sabio s/n\, Lugo\, Lugo\, 27002\, España
X-APPLE-STRUCTURED-LOCATION;VALUE=URI;X-ADDRESS=Rúa Afonso X o Sabio s/n\,
  Lugo\, Lugo\, 27002\, España;X-APPLE-RADIUS=100;X-TITLE=Facultade de Cie
 ncias Campus Terra (Lugo) Universidade de Santiago de Compostela:geo:0,0
END:VEVENT
BEGIN:VTIMEZONE
TZID:Europe/Madrid
X-LIC-LOCATION:Europe/Madrid
BEGIN:STANDARD
DTSTART:20241027T020000
TZOFFSETFROM:+0200
TZOFFSETTO:+0100
TZNAME:CET
END:STANDARD
END:VTIMEZONE
END:VCALENDAR