BEGIN:VCALENDAR
VERSION:2.0
PRODID:-//wp-events-plugin.com//7.2.3.1//EN
TZID:Europe/Madrid
X-WR-TIMEZONE:Europe/Madrid
BEGIN:VEVENT
UID:13@greenesal.com
DTSTART;TZID=Europe/Madrid:20230928T100000
DTEND;TZID=Europe/Madrid:20230928T133000
DTSTAMP:20230927T154151Z
URL:https://greenesal.com/events/seminario-de-mujeres-stem-y-transicion-en
 ergetica-avanzando-hacia-un-futuro-sostenible/
SUMMARY:Líderes en el sector de la Sostenibilidad y la Energía: Regresa e
 l II Seminario de Mujeres STEM
DESCRIPTION:Después del éxito del año anterior\, estamos encantados/as d
 e anunciar la segunda edición del "Seminario de Mujeres STEM y Transició
 n Energética: Avanzando hacia un Futuro Sostenible". 
ATTACH;FMTTYPE=image/jpeg:https://greenesal.com/wp-content/uploads/2023/09
 /Seminario-STEM-Genesal-Energy-2023.jpg
CATEGORIES:Presenciales
LOCATION:Escuela Técnica Superior de Ingeniería (ETSE) de la USC\, Lope G
 ómez de Marzoa\, s/n\, Santiago de Compostela\, La Coruña\, 15705\, Gali
 cia\, España
X-APPLE-STRUCTURED-LOCATION;VALUE=URI;X-ADDRESS=Lope Gómez de Marzoa\, s/n
 \, Santiago de Compostela\, La Coruña\, 15705\, Galicia\, España;X-APPLE
 -RADIUS=100;X-TITLE=Escuela Técnica Superior de Ingeniería (ETSE) de la 
 USC:geo:0,0
END:VEVENT
BEGIN:VTIMEZONE
TZID:Europe/Madrid
X-LIC-LOCATION:Europe/Madrid
BEGIN:DAYLIGHT
DTSTART:20230326T030000
TZOFFSETFROM:+0100
TZOFFSETTO:+0200
TZNAME:CEST
END:DAYLIGHT
END:VTIMEZONE
END:VCALENDAR