BEGIN:VCALENDAR
VERSION:2.0
PRODID:-//wp-events-plugin.com//7.2.3.1//EN
TZID:Europe/Madrid
X-WR-TIMEZONE:Europe/Madrid
BEGIN:VEVENT
UID:19@greenesal.com
DTSTART;TZID=Europe/Madrid:20241009T093000
DTEND;TZID=Europe/Madrid:20241009T113000
DTSTAMP:20241001T075725Z
URL:https://greenesal.com/events/seminario-de-combustibles-sostenibles/
SUMMARY:Seminario de Combustibles Sostenibles
DESCRIPTION:Estamos encantados de anunciar la primera edición del Seminari
 o de Combustibles Sostenibles\, que tendrá lugar en el marco de los ENERG
 Y DAYS 2024\, un evento de referencia en el sector energético.\n\nEn esta
  nueva actividad de la Cátedra de Transición Energética Genesal Energy 
 de la USC pondremos el foco en los combustibles sostenibles como una pieza
  clave en la descarbonización de la industria y la transición hacia un f
 uturo energético más limpio y eficiente. A través de este evento\, expl
 oraremos cómo el desarrollo y uso de combustibles alternativos están con
 tribuyendo a la transformación del sector energético\, proporcionando so
 luciones viables para reducir las emisiones y avanzar hacia un modelo ener
 gético más circular.\n\nEl seminario reunirá a expertos/as en la materi
 a que compartirán sus conocimientos sobre el papel de los combustibles so
 stenibles en la transición energética y los desafíos y oportunidades qu
 e enfrenta la industria. A través de las conferencias y la mesa redonda\,
  los ponentes abordarán las tecnologías emergentes y las mejores prácti
 cas para implementar estos combustibles en diferentes sectores industriale
 s. Este evento tiene como objetivo difundir conocimientos especializados y
  servir como un espacio clave para visibilizar las soluciones innovadoras 
 que están marcando el rumbo hacia la descarbo- nización del sector energ
 ético.\n\n¡Únete a nosotros/as!\n\n 	Objetivo: Ofrecer un espacio de a
 prendizaje y discusión sobre los avances en combustibles sostenibles y s
 u papel en la descarbonización\, fomen- tando el intercambio de experien
 cias entre profesionales del sector energético y actores clave en la tra
 nsición energética.\n 	Dirigido a: Profesionales de la Industria Energ
 ética\, ingenieros\, investigadores\, estudiantes y cualquier persona in
 teresada en el desarrollo de solu- ciones sostenibles para la transición
  energética.\n 	Organiza: Cátedra de Transición Energética USC - G
 ENESAL ENERGY.\n 	Lugar: Edificio CINC\, Cidade da Cultura\, Santiago de C
 ompostela.\n 	Cuándo: 9 de octubre de 2024\, de 09:30 h a 11:30 h.\n\nPr
 ograma: Descargar PDF\n\n&nbsp\;
ATTACH;FMTTYPE=image/jpeg:https://greenesal.com/wp-content/uploads/2024/10
 /energy-days-greenesal-g.jpg
CATEGORIES:Presenciales
LOCATION:Edificio CINC\, Cidade da Cultura de Galicia\, Edificio Centro de 
 Innovación Cultural (CINC)\, Monte Gaiás\, s/n\, Santiago de Compostela\
 , A Coruña\, 15707\, España
X-APPLE-STRUCTURED-LOCATION;VALUE=URI;X-ADDRESS=Cidade da Cultura de Galici
 a\, Edificio Centro de Innovación Cultural (CINC)\, Monte Gaiás\, s/n\, 
 Santiago de Compostela\, A Coruña\, 15707\, España;X-APPLE-RADIUS=100;X-
 TITLE=Edificio CINC:geo:0,0
END:VEVENT
BEGIN:VTIMEZONE
TZID:Europe/Madrid
X-LIC-LOCATION:Europe/Madrid
BEGIN:DAYLIGHT
DTSTART:20240331T030000
TZOFFSETFROM:+0100
TZOFFSETTO:+0200
TZNAME:CEST
END:DAYLIGHT
END:VTIMEZONE
END:VCALENDAR