BEGIN:VCALENDAR
VERSION:2.0
PRODID:-//wp-events-plugin.com//7.2.3.1//EN
TZID:Europe/Madrid
X-WR-TIMEZONE:Europe/Madrid
BEGIN:VEVENT
UID:1@greenesal.com
DTSTART;TZID=Europe/Madrid:20220504T093000
DTEND;TZID=Europe/Madrid:20220504T133000
DTSTAMP:20230208T082942Z
URL:https://greenesal.com/events/mujeres-stem-y-transicion-energetica-acel
 erando-el-cambio-hacia-la-sostenibilidad/
SUMMARY:Mujeres STEM y Transición Energética: Acelerando el cambio hacia 
 la sostenibilidad
DESCRIPTION:
ATTACH;FMTTYPE=image/jpeg:https://greenesal.com/wp-content/uploads/2022/10
 /genesal-energy-evento-catedra-transicion-ecologica-mujeres-stem-3.jpg
CATEGORIES:Presenciales
LOCATION:Escuela Técnica Superior de Ingeniería (ETSE) de la USC\, Lope G
 ómez de Marzoa\, s/n\, Santiago de Compostela\, La Coruña\, 15705\, Gali
 cia\, España
X-APPLE-STRUCTURED-LOCATION;VALUE=URI;X-ADDRESS=Lope Gómez de Marzoa\, s/n
 \, Santiago de Compostela\, La Coruña\, 15705\, Galicia\, España;X-APPLE
 -RADIUS=100;X-TITLE=Escuela Técnica Superior de Ingeniería (ETSE) de la 
 USC:geo:0,0
END:VEVENT
BEGIN:VTIMEZONE
TZID:Europe/Madrid
X-LIC-LOCATION:Europe/Madrid
BEGIN:DAYLIGHT
DTSTART:20220327T030000
TZOFFSETFROM:+0100
TZOFFSETTO:+0200
TZNAME:CEST
END:DAYLIGHT
END:VTIMEZONE
END:VCALENDAR