BEGIN:VCALENDAR
VERSION:2.0
PRODID:-//wp-events-plugin.com//7.2.3.1//EN
TZID:Europe/Madrid
X-WR-TIMEZONE:Europe/Madrid
BEGIN:VEVENT
UID:15@greenesal.com
DTSTART;TZID=Europe/Madrid:20240529T093000
DTEND;TZID=Europe/Madrid:20240529T150000
DTSTAMP:20240527T102404Z
URL:https://greenesal.com/events/iv-seminario-de-huella-de-carbono/
SUMMARY:IV Seminario de Huella de Carbono
DESCRIPTION:El contexto de transición energética y lucha contra el cambio
  climático que vivimos actualmente\, sumado a los objetivos de descarboni
 zar la economía planteados por Europa para las próximas décadas\, hacen
  que cada vez más empresas quieran adoptar actitudes proactivas para mini
 mizar su impacto sobre el medio ambiente.
ATTACH;FMTTYPE=image/jpeg:https://greenesal.com/wp-content/uploads/2024/05
 /iv-seminario-huella-carbonoa-genesal-energy.jpg
CATEGORIES:Presenciales
LOCATION:Asociación Empresarios de Bergondo\, Calle Parroquia de Guisamo\,
  0 S/N (Pol Ind Bergondo)\, Bergondo\, La Coruña\, 15165\, Galicia\, Espa
 ña
X-APPLE-STRUCTURED-LOCATION;VALUE=URI;X-ADDRESS=Calle Parroquia de Guisamo\
 , 0 S/N (Pol Ind Bergondo)\, Bergondo\, La Coruña\, 15165\, Galicia\, Esp
 aña;X-APPLE-RADIUS=100;X-TITLE=Asociación Empresarios de Bergondo:geo:0,
 0
END:VEVENT
BEGIN:VTIMEZONE
TZID:Europe/Madrid
X-LIC-LOCATION:Europe/Madrid
BEGIN:DAYLIGHT
DTSTART:20240331T030000
TZOFFSETFROM:+0100
TZOFFSETTO:+0200
TZNAME:CEST
END:DAYLIGHT
END:VTIMEZONE
END:VCALENDAR