BEGIN:VCALENDAR
VERSION:2.0
PRODID:-//wp-events-plugin.com//7.2.3.1//EN
TZID:Europe/Madrid
X-WR-TIMEZONE:Europe/Madrid
BEGIN:VEVENT
UID:14@greenesal.com
DTSTART;TZID=Europe/Madrid:20231123T160000
DTEND;TZID=Europe/Madrid:20231123T200000
DTSTAMP:20231114T095731Z
URL:https://greenesal.com/events/iii-seminario-de-huella-de-carbono/
SUMMARY:III Seminario de Huella de Carbono
DESCRIPTION:Esta jornada está pensada para dar a conocer el reto del Cambi
 o Climático dentro de los objetivos de desarrollo sostenible (ODS) y\, m
 ás concretamente\, mostrar el valor de la Huella de Carbono (HC) como ind
 icador de la contribución de la actividad industrial a dicho impacto con 
 el fin de plantear estrategias de transición ecológica. De este modo\, s
 e mostrarán diversas metodologías y herramientas de cálculo para los di
 ferentes alcances estandarizados de HC.\n
ATTACH;FMTTYPE=image/jpeg:https://greenesal.com/wp-content/uploads/2023/03
 /Greenesal-Actividades-Catedra-de-transicion-energetica-Bosque.jpg
CATEGORIES:Presenciales
LOCATION:Facultade de Ciencias Campus Terra (Lugo) Universidade de Santiago
  de Compostela\, Rúa Afonso X o Sabio s/n\, Lugo\, Lugo\, 27002\, España
X-APPLE-STRUCTURED-LOCATION;VALUE=URI;X-ADDRESS=Rúa Afonso X o Sabio s/n\,
  Lugo\, Lugo\, 27002\, España;X-APPLE-RADIUS=100;X-TITLE=Facultade de Cie
 ncias Campus Terra (Lugo) Universidade de Santiago de Compostela:geo:0,0
END:VEVENT
BEGIN:VTIMEZONE
TZID:Europe/Madrid
X-LIC-LOCATION:Europe/Madrid
BEGIN:STANDARD
DTSTART:20231029T020000
TZOFFSETFROM:+0200
TZOFFSETTO:+0100
TZNAME:CET
END:STANDARD
END:VTIMEZONE
END:VCALENDAR