BEGIN:VCALENDAR
VERSION:2.0
PRODID:-//wp-events-plugin.com//7.2.3.1//EN
TZID:Europe/Madrid
X-WR-TIMEZONE:Europe/Madrid
BEGIN:VEVENT
UID:11@greenesal.com
DTSTART;TZID=Europe/Madrid:20230615T090000
DTEND;TZID=Europe/Madrid:20230615T140000
DTSTAMP:20230613T093524Z
URL:https://greenesal.com/events/ii-seminario-de-huella-de-carbono-corpora
 tiva-para-pymes-2023/
SUMMARY:II Seminario de Huella de Carbono Corporativa para PYMES
DESCRIPTION:Un año más la Cátedra de Transición Energética Genesal Ene
 rgy presenta el II Seminario de Huella de Carbono Corporativa para PYMES. 
 A lo largo de la jornada se explicarán los conceptos básicos relacionado
 s con este indicador\, así como las metodologías y herramientas de cálc
 ulo que existen en función de los diferentes estándares.
ATTACH;FMTTYPE=image/jpeg:https://greenesal.com/wp-content/uploads/2023/05
 /seminario-huella-carbono-genesal-2.jpg
CATEGORIES:Presenciales
LOCATION:Genesal Energy - Nave B40 Polígono Industrial de Bergondo\, Rúa 
 Parroquia de Rois\, Bergondo\, A Coruña\, 15160\, Galicia\, España
X-APPLE-STRUCTURED-LOCATION;VALUE=URI;X-ADDRESS=Rúa Parroquia de Rois\, Be
 rgondo\, A Coruña\, 15160\, Galicia\, España;X-APPLE-RADIUS=100;X-TITLE=
 Genesal Energy - Nave B40 Polígono Industrial de Bergondo:geo:0,0
END:VEVENT
BEGIN:VTIMEZONE
TZID:Europe/Madrid
X-LIC-LOCATION:Europe/Madrid
BEGIN:DAYLIGHT
DTSTART:20230326T030000
TZOFFSETFROM:+0100
TZOFFSETTO:+0200
TZNAME:CEST
END:DAYLIGHT
END:VTIMEZONE
END:VCALENDAR