BEGIN:VCALENDAR
VERSION:2.0
PRODID:-//wp-events-plugin.com//7.2.3.1//EN
TZID:Europe/Madrid
X-WR-TIMEZONE:Europe/Madrid
BEGIN:VEVENT
UID:2@greenesal.com
DTSTART;TZID=Europe/Madrid:20221108T093000
DTEND;TZID=Europe/Madrid:20221108T180000
DTSTAMP:20230614T085530Z
URL:https://greenesal.com/events/i-seminario-de-huella-de-carbono-corporat
 iva-para-pymes-2022/
SUMMARY:I Seminario de Huella de Carbono Corporativa para PYMES
DESCRIPTION:I Seminario de Huella de Carbono Corporativa para PYMES\n\nEsta
  jornada está pensada para dar a conocer el reto del cambio climático de
 ntro de los objetivos de desarrollo sostenible (ODS) y\, más concretament
 e\, mostrar el valor de la Huella de Carbono (HC) como indicador de desemp
 eño corporativo en relación con la contribución de las actividades de l
 as empresas en dicho impacto con el fin de plantear estrategias de transic
 ión ecológica. Se mostrarán diversas metodologías y herramientas de c
 álculo para los diferentes alcances estandarizados de HC\, así como los 
 procedimientos para su registro.\n\nEl formato de aprendizaje planteado co
 mbinará clases expositivas en las que se mostrarán los diferentes concep
 tos y metodologías\, ilustrados con casos prácticos\, así como clases i
 nteractivas en aula de informática (formato taller) para que los alumnos 
 participantes se familiaricen con el uso y aplicación de éstas\, mediant
 e el cálculo de la HC en casos concretos sencillos e ilustrativos.\n\nFin
 almente\, se propondrá una tarea online tutorizada consistente en una pro
 puesta de un caso práctico para los participantes que se tutorizará\, a 
 través de Microsoft Teams\, con una reunión telemática final (con fecha
  a convenir con los asistentes) en la cual se confrontarán y discutirán 
 los resultados obtenidos\, así como se resolverán las dudas que puedan s
 urgir.\n\nEl cuadro docente estará formado por profesionales de la empres
 a\, administración y universidad con amplia experiencia práctica en la m
 ateria.\n\nHorario: De 9.30 h a 14.00h y de 16.00 a 18.00h\n\nDirigido a: 
 Técnicos y profesionales de PYMES motivados en conocer la Huella de Carbo
 no de su actividad y reducir su impacto sobre el cambio climático.\n\nObj
 etivos: Difundir el interés y utilidad de la HC como indicador de desemp
 eño corporativo en la mejora de las actividades de las PYMES para reducir
  su impacto sobre el cambio climático. Facilitar el aprendizaje de las me
 todologías de cálculo de la HC.\n\nOrganizan: Grupo PRODES (GI 2058 USC
 ) y Genesal Energy (en el marco de la Cátedra de Transición Energética 
 USC-Genesal Energy).\n\nNº de plazas: 25 plazas.\n\n&nbsp\;
ATTACH;FMTTYPE=image/jpeg:https://greenesal.com/wp-content/uploads/2022/10
 /Greenesal-Catedra-transicion-energetiva-head.jpg
CATEGORIES:Presenciales
LOCATION:Campus Terra (LUGO)\, Rúa Afonso X o Sabio\, s/n\, 27002 Lugo\, L
 ugo\, España
X-APPLE-STRUCTURED-LOCATION;VALUE=URI;X-ADDRESS=Rúa Afonso X o Sabio\, s/n
 \, 27002 Lugo\, Lugo\, España;X-APPLE-RADIUS=100;X-TITLE=Campus Terra (LU
 GO):geo:0,0
END:VEVENT
BEGIN:VTIMEZONE
TZID:Europe/Madrid
X-LIC-LOCATION:Europe/Madrid
BEGIN:STANDARD
DTSTART:20221030T020000
TZOFFSETFROM:+0200
TZOFFSETTO:+0100
TZNAME:CET
END:STANDARD
END:VTIMEZONE
END:VCALENDAR