BEGIN:VCALENDAR
VERSION:2.0
PRODID:-//wp-events-plugin.com//7.2.3.1//EN
TZID:Europe/Madrid
X-WR-TIMEZONE:Europe/Madrid
BEGIN:VEVENT
UID:16@greenesal.com
DTSTART;TZID=Europe/Madrid;VALUE=DATE:20241011
DTEND;TZID=Europe/Madrid;VALUE=DATE:20241012
DTSTAMP:20240618T082129Z
URL:https://greenesal.com/events/convocatoria-iii-premio-a-trabajos-de-fin
 -de-grado-y-fin-de-master-sobre-transicion-energetica/
SUMMARY:Convocatoria III Premio a Trabajos de Fin de Grado y Fin de Máster
  sobre transición energética
DESCRIPTION:Tras el éxito de la primera edición y la calidad de los traba
 jos presentados\, convocamos la II Edición de los Premios a Trabajos de F
 in de Grado y Fin de Máster. 
ATTACH;FMTTYPE=image/jpeg:https://greenesal.com/wp-content/uploads/2024/06
 /convocatoria-premios-2024.jpg
CATEGORIES:Premios
LOCATION:https://sede.usc.es/sede/publica/persoais/rexistroEntrada/acceso.h
 tm
END:VEVENT
BEGIN:VTIMEZONE
TZID:Europe/Madrid
X-LIC-LOCATION:Europe/Madrid
BEGIN:DAYLIGHT
DTSTART:20240331T030000
TZOFFSETFROM:+0100
TZOFFSETTO:+0200
TZNAME:CEST
END:DAYLIGHT
END:VTIMEZONE
END:VCALENDAR