BEGIN:VCALENDAR
VERSION:2.0
PRODID:-//wp-events-plugin.com//7.2.3.1//EN
TZID:Europe/Madrid
X-WR-TIMEZONE:Europe/Madrid
BEGIN:VEVENT
UID:3@greenesal.com
DTSTART;TZID=Europe/Madrid;VALUE=DATE:20231010
DTEND;TZID=Europe/Madrid;VALUE=DATE:20231011
DTSTAMP:20230920T081239Z
URL:https://greenesal.com/events/convocatoria-de-premios-trabajos-fin-de-g
 rado-y-fin-de-master-sobre-transicion-energetica/
SUMMARY:Convocatoria de premios 2023 - Trabajos Fin de Grado y Fin de Mást
 er sobre transición energética
DESCRIPTION:Tras el éxito de la primera edición y la calidad de los traba
 jos presentados\, convocamos la II Edición de los Premios a Trabajos de F
 in de Grado y Fin de Máster. 
ATTACH;FMTTYPE=image/jpeg:https://greenesal.com/wp-content/uploads/2022/11
 /genesal_rollup_catedra900px.jpg
CATEGORIES:Premios
LOCATION:https://sede.usc.es/sede/publica/persoais/rexistroEntrada/acceso.h
 tm
END:VEVENT
BEGIN:VTIMEZONE
TZID:Europe/Madrid
X-LIC-LOCATION:Europe/Madrid
BEGIN:DAYLIGHT
DTSTART:20230326T030000
TZOFFSETFROM:+0100
TZOFFSETTO:+0200
TZNAME:CEST
END:DAYLIGHT
END:VTIMEZONE
END:VCALENDAR