BEGIN:VCALENDAR
VERSION:2.0
PRODID:-//wp-events-plugin.com//7.2.3.1//EN
TZID:Europe/Madrid
X-WR-TIMEZONE:Europe/Madrid
BEGIN:VEVENT
UID:8@greenesal.com
DTSTART;TZID=Europe/Madrid;VALUE=DATE:20231010
DTEND;TZID=Europe/Madrid;VALUE=DATE:20231011
DTSTAMP:20230627T111457Z
URL:https://greenesal.com/en/events/awards-for-the-best-undergraduate-and-
 masters-theses-related-to-energy/
SUMMARY:Call for awards 2023 - Final Degree and Master's Projects on Energy
  Transition
DESCRIPTION:Convocamos la I Edición de los Premios a Trabajos Fin de Grado
  y Fin de Máster dentro de nuestra apuesta por promover la formación e i
 mpulsar la docencia en ámbitos relacionados con la sostenibilidad\, la hu
 ella de carbono\, la integración de sistemas industriales basados en hidr
 ógeno verde y en todos aquellos campos que favorecen la transición energ
 ética.
ATTACH;FMTTYPE=image/jpeg:https://greenesal.com/wp-content/uploads/2022/11
 /genesal_rollup_catedra900px.jpg
CATEGORIES:Awards
LOCATION:https://sede.usc.es/sede/publica/persoais/rexistroEntrada/acceso.h
 tm
END:VEVENT
BEGIN:VTIMEZONE
TZID:Europe/Madrid
X-LIC-LOCATION:Europe/Madrid
BEGIN:DAYLIGHT
DTSTART:20230326T030000
TZOFFSETFROM:+0100
TZOFFSETTO:+0200
TZNAME:CEST
END:DAYLIGHT
END:VTIMEZONE
END:VCALENDAR