BEGIN:VCALENDAR
VERSION:2.0
PRODID:-//wp-events-plugin.com//7.2.3.1//EN
TZID:Europe/Madrid
X-WR-TIMEZONE:Europe/Madrid
BEGIN:VEVENT
UID:7@greenesal.com
DTSTART;TZID=Europe/Madrid:20221108T093000
DTEND;TZID=Europe/Madrid:20221108T180000
DTSTAMP:20230520T133129Z
URL:https://greenesal.com/en/events/1st-seminar-on-corporate-carbon-footpr
 ints-for-smes-2022/
SUMMARY:1st Seminar on Corporate Carbon Footprints for SMEs
DESCRIPTION:1st Seminar on Corporate Carbon Footprints for SMEs\n\nThis con
 ference aims to raise awareness of the challenges of climate change and th
 e Sustainable Development Goals (SDGs)\; in particular\, we intend to demo
 nstrate the value of the Carbon Footprint (CF) as an indicator of corporat
 e performance and a measurement of the impact of companies’ activities i
 n order to propose strategies for ecological transition. Different methodo
 logies and tools for calculating the standardised ‘scopes’ of emission
 s will be demonstrated\, as well as the procedures for recording these.\n\
 nThe programme will consist of a combination of talks on the different con
 cepts and methodologies including case studies\, and interactive classes i
 n a computer room (in a workshop format). Participants will become familia
 r with the use and application of these methodologies by calculating CFs f
 or simple instructive cases.\n\nFinally\, participants will be given an on
 line assignment involving a case study\, to be overseen by a tutor using M
 icrosoft Teams. The results obtained will be compared and discussed in an 
 online meeting (date to be determined together with the participants)\, du
 ring which the tutor will answer questions and offer guidance.\n\nThe spea
 kers will be composed of company\, government and university professionals
  with extensive practical experience in the field.\n\nTime: 9.30 am to 2.0
 0 pm and 4.00 pm to 6.00 pm\n\nTarget audience: Technicians and profession
 als from SMEs which are interested in learning about the carbon footprint 
 of their activities and reducing their impact on climate change.\n\nGoals:
  To share information about the relevance and usefulness of the CF as a p
 erformance indicator that SMEs can use to improve the action they are taki
 ng to reduce their impact on climate change\, and to teach methodologies f
 or calculating CFs.\n\nOrganised by: the PRODES Group (GI 2058 USC) and G
 enesal Energy (under the auspices of the USC-Genesal Energy Faculty of Ene
 rgy Transition).\n\nPlaces available: 25.\n\n&nbsp\;
ATTACH;FMTTYPE=image/jpeg:https://greenesal.com/wp-content/uploads/2022/10
 /Greenesal-Catedra-transicion-energetiva-head.jpg
CATEGORIES:In-person
LOCATION:Campus Terra (LUGO)\, Rúa Afonso X o Sabio\, s/n\, 27002 Lugo\, L
 ugo\, Spain
X-APPLE-STRUCTURED-LOCATION;VALUE=URI;X-ADDRESS=Rúa Afonso X o Sabio\, s/n
 \, 27002 Lugo\, Lugo\, Spain;X-APPLE-RADIUS=100;X-TITLE=Campus Terra (LUGO
 ):geo:0,0
END:VEVENT
BEGIN:VTIMEZONE
TZID:Europe/Madrid
X-LIC-LOCATION:Europe/Madrid
BEGIN:STANDARD
DTSTART:20221030T020000
TZOFFSETFROM:+0200
TZOFFSETTO:+0100
TZNAME:CET
END:STANDARD
END:VTIMEZONE
END:VCALENDAR